BEGIN:VCALENDAR
VERSION:2.0
PRODID:-//OmniMagnetCalendar//EN
BEGIN:VEVENT
DTSTAMP:20190625T195740Z
STATUS:CONFIRMED
UID:hcswitzerland.clubs.harvard.edu118
DTSTART:20171019T094500Z
DTEND:20171019T114500Z
LOCATION:Haus zum Rüden, Limmatquai 42, Zürich, ZH, 8001, Switzerland,
SUMMARY:Luncheon
DESCRIPTION:Guest of Honor: Silvio Napoli, Chairman of Schindler Holding Ltd
BEGIN:VALARM
TRIGGER:-PT15M
ACTION:DISPLAY
END:VALARM
TRANSP:OPAQUE
END:VEVENT
END:VCALENDAR
